BEGIN:VCALENDAR
VERSION:2.0
PRODID:-//kellogg.northwestern.edu///Outlook MIMEDIR//EN
X-WR-CALNAME: All Faculty Events
BEGIN:VEVENT
DTSTAMP:20260425T125604Z
DTSTART:20230314T170500Z
DTEND:20230314T180500Z
SUMMARY:Elena Stella
X-ALT-DESC;FMTTYPE=text/html:Corporate Political Activity in the Post-Citizens United Era
DESCRIPTION:Corporate Political Activity in the Post-Citizens United Era
LOCATION:Kellogg Global Hub KGH 4302, virtual option
SEQUENCE:0
UID:5e3082e1-f865-46bc-98bf-a41e54dd86ad
END:VEVENT
END:VCALENDAR
