BEGIN:VCALENDAR
VERSION:2.0
PRODID:-//kellogg.northwestern.edu///Outlook MIMEDIR//EN
X-WR-CALNAME: All Faculty Events
BEGIN:VEVENT
DTSTAMP:20260422T180059Z
DTSTART:20240424T160000Z
DTEND:20240424T171500Z
SUMMARY:Daniel McCarthy
X-ALT-DESC;FMTTYPE=text/html:Expanding Markets or Capturing Share: Effects of Subscription on Spending and Share-of-Wallet in Restaurant Delivery
DESCRIPTION:Expanding Markets or Capturing Share: Effects of Subscription on Spending and Share-of-Wallet in Restaurant Delivery
LOCATION:Kellogg Global Hub TBD
SEQUENCE:0
UID:5d781f0e-d84b-42ad-8c89-17eff3dcd1f8
END:VEVENT
END:VCALENDAR
