BEGIN:VCALENDAR
VERSION:2.0
PRODID:-//kellogg.northwestern.edu///Outlook MIMEDIR//EN
X-WR-CALNAME: All Faculty Events
BEGIN:VEVENT
DTSTAMP:20260419T214235Z
DTSTART:20240417T170000Z
DTEND:20240417T183000Z
SUMMARY:Daniel Ames
X-ALT-DESC;FMTTYPE=text/html:Views from the Competitive Jungle: How Worldviews Shape Social Judgment and Behavior
DESCRIPTION:Views from the Competitive Jungle: How Worldviews Shape Social Judgment and Behavior
LOCATION:Kellogg Global Hub 2120/Zoom
SEQUENCE:0
UID:5d511a5b-c273-4c8c-9272-143112e537fd
END:VEVENT
END:VCALENDAR
