BEGIN:VCALENDAR
VERSION:2.0
PRODID:-//kellogg.northwestern.edu///Outlook MIMEDIR//EN
X-WR-CALNAME: All Faculty Events
BEGIN:VEVENT
DTSTAMP:20260421T132940Z
DTSTART:20181003T170000Z
DTEND:20181003T183000Z
SUMMARY:Chethana Achar
X-ALT-DESC;FMTTYPE=text/html:"Tainted by Stigma: The Interplay of Stigma and Morality in Health Persuasion"
DESCRIPTION:"Tainted by Stigma: The Interplay of Stigma and Morality in Health Persuasion"
LOCATION:Kellogg Global Hub KGH 5301
SEQUENCE:0
UID:5c18e555-e773-47dd-a851-ab36058703bc
END:VEVENT
END:VCALENDAR
