BEGIN:VCALENDAR
VERSION:2.0
PRODID:-//kellogg.northwestern.edu///Outlook MIMEDIR//EN
X-WR-CALNAME: All Faculty Events
BEGIN:VEVENT
DTSTAMP:20260420T031836Z
DTSTART:20201111T213000Z
DTEND:20201111T230000Z
SUMMARY:Marzena Rostek
X-ALT-DESC;FMTTYPE=text/html:Title TBA
DESCRIPTION:Title TBA
LOCATION:Virtual Event
SEQUENCE:0
UID:5b449e92-5875-4476-a1fa-8a738473a66d
END:VEVENT
END:VCALENDAR
