BEGIN:VCALENDAR
VERSION:2.0
PRODID:-//kellogg.northwestern.edu///Outlook MIMEDIR//EN
X-WR-CALNAME: All Faculty Events
BEGIN:VEVENT
DTSTAMP:20260421T194138Z
DTSTART:20250401T171500Z
DTEND:20250401T181500Z
SUMMARY:Kai Wang
X-ALT-DESC;FMTTYPE=text/html:Quarterly Asset Growth, the Cross Section of Stock Returns, and Subjective Beliefs
DESCRIPTION:Quarterly Asset Growth, the Cross Section of Stock Returns, and Subjective Beliefs
LOCATION:Kellogg Global Hub KGH 5101
SEQUENCE:0
UID:5b128e46-2013-40bc-b168-801f865d4bb1
END:VEVENT
END:VCALENDAR
