BEGIN:VCALENDAR
VERSION:2.0
PRODID:-//kellogg.northwestern.edu///Outlook MIMEDIR//EN
X-WR-CALNAME: All Faculty Events
BEGIN:VEVENT
DTSTAMP:20260423T122816Z
DTSTART:20180302T181500Z
DTEND:20180302T193000Z
SUMMARY:Gustavo Schwenkler
X-ALT-DESC;FMTTYPE=text/html:"What really drives consumption growth: Long-run risk or disasters?"
DESCRIPTION:"What really drives consumption growth: Long-run risk or disasters?"
LOCATION:Kellogg Global Hub 4302
SEQUENCE:0
UID:57d22965-2ee4-4c2c-998b-128e0276f720
END:VEVENT
END:VCALENDAR
