BEGIN:VCALENDAR
VERSION:2.0
PRODID:-//kellogg.northwestern.edu///Outlook MIMEDIR//EN
X-WR-CALNAME: All Faculty Events
BEGIN:VEVENT
DTSTAMP:20260421T160256Z
DTSTART:20180605T163000Z
DTEND:20180605T180000Z
SUMMARY:Azim Shariff
X-ALT-DESC;FMTTYPE=text/html:"The Ethical Dilemmas of Self-Driving Cars"
DESCRIPTION:"The Ethical Dilemmas of Self-Driving Cars"
LOCATION:Kellogg Global Hub 2420 A&B
SEQUENCE:0
UID:572b69e6-3dd8-4f32-b2b9-65d5b814760a
END:VEVENT
END:VCALENDAR
