BEGIN:VCALENDAR
VERSION:2.0
PRODID:-//kellogg.northwestern.edu///Outlook MIMEDIR//EN
X-WR-CALNAME: All Faculty Events
BEGIN:VEVENT
DTSTAMP:20260419T132056Z
DTSTART:20170510T170000Z
DTEND:20170510T181500Z
SUMMARY:Clare Wang
X-ALT-DESC;FMTTYPE=text/html:"Corporate Scandals and Regulation"
DESCRIPTION:"Corporate Scandals and Regulation"
LOCATION:Kellogg Global Hub 4101
SEQUENCE:0
UID:5711e415-e86c-4cee-bea7-df2ea18dd152
END:VEVENT
END:VCALENDAR
