BEGIN:VCALENDAR
VERSION:2.0
PRODID:-//kellogg.northwestern.edu///Outlook MIMEDIR//EN
X-WR-CALNAME: All Faculty Events
BEGIN:VEVENT
DTSTAMP:20260423T174559Z
DTSTART:20190423T170000Z
DTEND:20190423T180000Z
SUMMARY:Jillian Jordan
X-ALT-DESC;FMTTYPE=text/html:Unvirtuous signalers? Reputation motives can drive harsh punishment of ambiguous transgressions among political liberals (but can simultaneously increase their sensitivity to nuance)
DESCRIPTION:Unvirtuous signalers? Reputation motives can drive harsh punishment of ambiguous transgressions among political liberals (but can simultaneously increase their sensitivity to nuance)
LOCATION:Kellogg Global Hub 5101
SEQUENCE:0
UID:56c0e813-bf62-4224-92ee-d79eb72290ff
END:VEVENT
END:VCALENDAR
