BEGIN:VCALENDAR
VERSION:2.0
PRODID:-//kellogg.northwestern.edu///Outlook MIMEDIR//EN
X-WR-CALNAME: All Faculty Events
BEGIN:VEVENT
DTSTAMP:20260422T180251Z
DTSTART:20240118T213000Z
DTEND:20240118T230000Z
SUMMARY:Daniel Chen
X-ALT-DESC;FMTTYPE=text/html:Data Science for Justice: Evidence from a Nationwide Randomized Experiment in Kenya
DESCRIPTION:Data Science for Justice: Evidence from a Nationwide Randomized Experiment in Kenya
LOCATION:Kellogg Global Hub KGH 4101
SEQUENCE:0
UID:5630f2c7-c0c3-401a-b2c6-20ffdf186764
END:VEVENT
END:VCALENDAR
