BEGIN:VCALENDAR
VERSION:2.0
PRODID:-//kellogg.northwestern.edu///Outlook MIMEDIR//EN
X-WR-CALNAME: All Faculty Events
BEGIN:VEVENT
DTSTAMP:20260421T083303Z
DTSTART:20200309T171500Z
DTEND:20200309T183000Z
SUMMARY:Quoc-Anh Do
X-ALT-DESC;FMTTYPE=text/html:Title TBA
DESCRIPTION:Title TBA
LOCATION:Kellogg Global Hub 5301
SEQUENCE:0
UID:55fcbfaa-99c6-4d1b-92f6-c7569e9c1125
END:VEVENT
END:VCALENDAR
