BEGIN:VCALENDAR
VERSION:2.0
PRODID:-//kellogg.northwestern.edu///Outlook MIMEDIR//EN
X-WR-CALNAME: All Faculty Events
BEGIN:VEVENT
DTSTAMP:20260421T151815Z
DTSTART:20230411T170500Z
DTEND:20230411T180500Z
SUMMARY:Anran Li
X-ALT-DESC;FMTTYPE=text/html:Commitment, Competition and Preventive Care Provision
DESCRIPTION:Commitment, Competition and Preventive Care Provision
LOCATION:Kellogg Global Hub KGH 4302, virtual option
SEQUENCE:0
UID:55aa2319-5fbd-4acf-90ad-2d67cf71b71d
END:VEVENT
END:VCALENDAR
