BEGIN:VCALENDAR
VERSION:2.0
PRODID:-//kellogg.northwestern.edu///Outlook MIMEDIR//EN
X-WR-CALNAME: All Faculty Events
BEGIN:VEVENT
DTSTAMP:20260419T182337Z
DTSTART:20221114T181500Z
DTEND:20221114T193000Z
SUMMARY:Ernesto Dal Bo
X-ALT-DESC;FMTTYPE=text/html:From Rivals to Partners: Capital, State Coercion, and the Rise of Modern Economic Growth (with Lukas Leucht and Noam Yuchtman)
DESCRIPTION:From Rivals to Partners: Capital, State Coercion, and the Rise of Modern Economic Growth (with Lukas Leucht and Noam Yuchtman)
LOCATION:Kellogg Global Hub 5301
SEQUENCE:0
UID:542dee51-6fe7-4dc6-b671-a3c71017a01b
END:VEVENT
END:VCALENDAR
