BEGIN:VCALENDAR
VERSION:2.0
PRODID:-//kellogg.northwestern.edu///Outlook MIMEDIR//EN
X-WR-CALNAME: All Faculty Events
BEGIN:VEVENT
DTSTAMP:20260422T012956Z
DTSTART:20181024T183000Z
DTEND:20181024T200000Z
SUMMARY:Aniko Öry
X-ALT-DESC;FMTTYPE=text/html:Aiming for the Goal: Contribution Dynamics of Crowdfunding
DESCRIPTION:Aiming for the Goal: Contribution Dynamics of Crowdfunding
LOCATION:Kellogg Global Hub 4302
SEQUENCE:0
UID:52919180-ec9d-4a38-9ee2-70c1ea8b67a9
END:VEVENT
END:VCALENDAR
