BEGIN:VCALENDAR
VERSION:2.0
PRODID:-//kellogg.northwestern.edu///Outlook MIMEDIR//EN
X-WR-CALNAME: All Faculty Events
BEGIN:VEVENT
DTSTAMP:20260421T113103Z
DTSTART:20211108T181500Z
DTEND:20211108T193000Z
SUMMARY:Matt Lowe
X-ALT-DESC;FMTTYPE=text/html:"Religious Revival and Social Order"
DESCRIPTION:"Religious Revival and Social Order"
LOCATION:Kellogg Global Hub 5301
SEQUENCE:0
UID:52516e17-e354-426d-85da-c38b021e907b
END:VEVENT
END:VCALENDAR
