BEGIN:VCALENDAR
VERSION:2.0
PRODID:-//kellogg.northwestern.edu///Outlook MIMEDIR//EN
X-WR-CALNAME: All Faculty Events
BEGIN:VEVENT
DTSTAMP:20260422T212131Z
DTSTART:20171027T171500Z
DTEND:20171027T183000Z
SUMMARY:Yingying Li
X-ALT-DESC;FMTTYPE=text/html:"Approaching Mean-Variance Efficiency for Large Portfolios"
DESCRIPTION:"Approaching Mean-Variance Efficiency for Large Portfolios"
LOCATION:Kellogg Global Hub 4101
SEQUENCE:0
UID:51f8c7e6-7071-421c-b0da-7d577d839f80
END:VEVENT
END:VCALENDAR
