BEGIN:VCALENDAR
VERSION:2.0
PRODID:-//kellogg.northwestern.edu///Outlook MIMEDIR//EN
X-WR-CALNAME: All Faculty Events
BEGIN:VEVENT
DTSTAMP:20260419T170105Z
DTSTART:20181205T191500Z
DTEND:20181205T203000Z
SUMMARY:Jeffrey Hoopes
X-ALT-DESC;FMTTYPE=text/html:"Strategic Subsidiary Disclosure"
DESCRIPTION:"Strategic Subsidiary Disclosure"
LOCATION:Kellogg Global Hub 4101
SEQUENCE:0
UID:50cd3ee3-552e-4973-9149-618ed3809eb5
END:VEVENT
END:VCALENDAR
