BEGIN:VCALENDAR
VERSION:2.0
PRODID:-//kellogg.northwestern.edu///Outlook MIMEDIR//EN
X-WR-CALNAME: All Faculty Events
BEGIN:VEVENT
DTSTAMP:20260421T044208Z
DTSTART:20220602T171500Z
DTEND:20220602T181500Z
SUMMARY:Harry Pei
X-ALT-DESC;FMTTYPE=text/html:
DESCRIPTION:
LOCATION:Kellogg Global Hub 5101
SEQUENCE:0
UID:506dae37-144e-453e-b9ff-3a399c4f1d12
END:VEVENT
END:VCALENDAR
