BEGIN:VCALENDAR
VERSION:2.0
PRODID:-//kellogg.northwestern.edu///Outlook MIMEDIR//EN
X-WR-CALNAME: All Faculty Events
BEGIN:VEVENT
DTSTAMP:20260423T030306Z
DTSTART:20220922T171500Z
DTEND:20220919T181500Z
SUMMARY:Théo Durandard
X-ALT-DESC;FMTTYPE=text/html:Prove yourself: Dynamic Delegation in Promotion Contests
DESCRIPTION:Prove yourself: Dynamic Delegation in Promotion Contests
LOCATION:Kellogg Global Hub 5101
SEQUENCE:0
UID:505f8152-961a-4b08-9899-d85069ed5ac7
END:VEVENT
END:VCALENDAR
