BEGIN:VCALENDAR
VERSION:2.0
PRODID:-//kellogg.northwestern.edu///Outlook MIMEDIR//EN
X-WR-CALNAME: All Faculty Events
BEGIN:VEVENT
DTSTAMP:20260421T065441Z
DTSTART:20250113T181500Z
DTEND:20250113T193000Z
SUMMARY:MEDS Seminar - Suproteem Sarkar
X-ALT-DESC;FMTTYPE=text/html:Economic Representations
DESCRIPTION:Economic Representations
LOCATION:Kellogg Global Hub 4101
SEQUENCE:0
UID:4f962544-aa18-45a7-a6e1-5cb748f2f35e
END:VEVENT
END:VCALENDAR
