BEGIN:VCALENDAR
VERSION:2.0
PRODID:-//kellogg.northwestern.edu///Outlook MIMEDIR//EN
X-WR-CALNAME: All Faculty Events
BEGIN:VEVENT
DTSTAMP:20260421T172203Z
DTSTART:20200527T184500Z
DTEND:20200527T200000Z
SUMMARY:Daniel Rappoport
X-ALT-DESC;FMTTYPE=text/html:
DESCRIPTION:
LOCATION:Kellogg Global Hub 4101
SEQUENCE:0
UID:4db7f04d-ae8a-4e7d-acd6-b77569c5f3ca
END:VEVENT
END:VCALENDAR
