BEGIN:VCALENDAR
VERSION:2.0
PRODID:-//kellogg.northwestern.edu///Outlook MIMEDIR//EN
X-WR-CALNAME: All Faculty Events
BEGIN:VEVENT
DTSTAMP:20260421T155513Z
DTSTART:20170503T171500Z
DTEND:20170503T184500Z
SUMMARY:Shahzad (Shaz) Ansari
X-ALT-DESC;FMTTYPE=text/html:Targets as allies or adversaries: an interactional framing perspective on the “activist’s dilemma” 
DESCRIPTION:Targets as allies or adversaries: an interactional framing perspective on the “activist’s dilemma” 
LOCATION:Kellogg Global Hub L120
SEQUENCE:0
UID:4da3f2ac-be84-4b4c-9951-23f948c5727c
END:VEVENT
END:VCALENDAR
