BEGIN:VCALENDAR
VERSION:2.0
PRODID:-//kellogg.northwestern.edu///Outlook MIMEDIR//EN
X-WR-CALNAME: All Faculty Events
BEGIN:VEVENT
DTSTAMP:20260421T085616Z
DTSTART:20211207T180500Z
DTEND:20211207T190500Z
SUMMARY:Nicola Bianchi
X-ALT-DESC;FMTTYPE=text/html:Countries for Old Men: An Analysis of the Age Wage Gap
DESCRIPTION:Countries for Old Men: An Analysis of the Age Wage Gap
LOCATION:Kellogg Global Hub KGH 4302
SEQUENCE:0
UID:4a5df48f-d880-42e0-85ba-e9846bbaf88a
END:VEVENT
END:VCALENDAR
