BEGIN:VCALENDAR
VERSION:2.0
PRODID:-//kellogg.northwestern.edu///Outlook MIMEDIR//EN
X-WR-CALNAME: All Faculty Events
BEGIN:VEVENT
DTSTAMP:20260420T001330Z
DTSTART:20190312T170500Z
DTEND:20190312T180500Z
SUMMARY:Ruozhou Yan
X-ALT-DESC;FMTTYPE=text/html:"Performance Measure Manipulation"
DESCRIPTION:"Performance Measure Manipulation"
LOCATION:Kellogg Global Hub 4302
SEQUENCE:0
UID:487c9c04-7838-4972-b232-e1708cb6d526
END:VEVENT
END:VCALENDAR
