BEGIN:VCALENDAR
VERSION:2.0
PRODID:-//kellogg.northwestern.edu///Outlook MIMEDIR//EN
X-WR-CALNAME: All Faculty Events
BEGIN:VEVENT
DTSTAMP:20260422T030736Z
DTSTART:20231128T180500Z
DTEND:20231128T190500Z
SUMMARY:Elena Stella
X-ALT-DESC;FMTTYPE=text/html:Title forthcoming
DESCRIPTION:Title forthcoming
LOCATION:Kellogg Global Hub KGH 4302, virtual option
SEQUENCE:0
UID:484259e7-02f2-40ab-9ca5-f52cf97e6fb5
END:VEVENT
END:VCALENDAR
