BEGIN:VCALENDAR
VERSION:2.0
PRODID:-//kellogg.northwestern.edu///Outlook MIMEDIR//EN
X-WR-CALNAME: All Faculty Events
BEGIN:VEVENT
DTSTAMP:20260423T031502Z
DTSTART:20240221T163000Z
DTEND:20240221T180000Z
SUMMARY:Josefina Cenzon
X-ALT-DESC;FMTTYPE=text/html:"Credit Market Experiences and Macroeconomic Expectations: Evidence and Theory"
DESCRIPTION:"Credit Market Experiences and Macroeconomic Expectations: Evidence and Theory"
LOCATION:Kellogg Global Hub KGH 4101
SEQUENCE:0
UID:46575b4f-4920-461d-9dcb-67cc3df7afa7
END:VEVENT
END:VCALENDAR
