BEGIN:VCALENDAR
VERSION:2.0
PRODID:-//kellogg.northwestern.edu///Outlook MIMEDIR//EN
X-WR-CALNAME: All Faculty Events
BEGIN:VEVENT
DTSTAMP:20260421T050307Z
DTSTART:20241016T183000Z
DTEND:20241016T200000Z
SUMMARY:Henry Friedman
X-ALT-DESC;FMTTYPE=text/html:Climate-Related Attention in Capital Markets: Evidence from China’s Carbon Neutrality Pledge Announcement
DESCRIPTION:Climate-Related Attention in Capital Markets: Evidence from China’s Carbon Neutrality Pledge Announcement
LOCATION:Kellogg Global Hub KGH 2420
SEQUENCE:0
UID:45565419-48c3-4aa5-9bf4-264da0e23bc9
END:VEVENT
END:VCALENDAR
