BEGIN:VCALENDAR
VERSION:2.0
PRODID:-//kellogg.northwestern.edu///Outlook MIMEDIR//EN
X-WR-CALNAME: All Faculty Events
BEGIN:VEVENT
DTSTAMP:20260424T093344Z
DTSTART:20171108T170000Z
DTEND:20171108T181500Z
SUMMARY:Howard Kung
X-ALT-DESC;FMTTYPE=text/html:"QE in the Fiscal Theory: A Risk-Based View"
DESCRIPTION:"QE in the Fiscal Theory: A Risk-Based View"
LOCATION:Kellogg Global Hub Room L130
SEQUENCE:0
UID:44bd29c2-a836-4e5f-9f6f-394aa0d709fe
END:VEVENT
END:VCALENDAR
