BEGIN:VCALENDAR
VERSION:2.0
PRODID:-//kellogg.northwestern.edu///Outlook MIMEDIR//EN
X-WR-CALNAME: All Faculty Events
BEGIN:VEVENT
DTSTAMP:20260419T100624Z
DTSTART:20220511T183000Z
DTEND:20220511T194500Z
SUMMARY:John Barrios
X-ALT-DESC;FMTTYPE=text/html:Title TBA
DESCRIPTION:Title TBA
LOCATION:Kellogg Global Hub 4302
SEQUENCE:0
UID:4360d707-7410-4e27-896c-cac07cfb5640
END:VEVENT
END:VCALENDAR
