BEGIN:VCALENDAR
VERSION:2.0
PRODID:-//kellogg.northwestern.edu///Outlook MIMEDIR//EN
X-WR-CALNAME: All Faculty Events
BEGIN:VEVENT
DTSTAMP:20260421T171319Z
DTSTART:20241122T181000Z
DTEND:20241122T192500Z
SUMMARY:Behavioral Economics Seminar - Dan Benjamin
X-ALT-DESC;FMTTYPE=text/html:Adjusting for Scale-Use Heterogeneity in Self-Reported Well-Being
DESCRIPTION:Adjusting for Scale-Use Heterogeneity in Self-Reported Well-Being
LOCATION:Kellogg Global Hub 5101
SEQUENCE:0
UID:42df4870-0be2-4e7e-8aee-c850ea40975d
END:VEVENT
END:VCALENDAR
