BEGIN:VCALENDAR
VERSION:2.0
PRODID:-//kellogg.northwestern.edu///Outlook MIMEDIR//EN
X-WR-CALNAME: All Faculty Events
BEGIN:VEVENT
DTSTAMP:20260420T081427Z
DTSTART:20250305T194500Z
DTEND:20250305T210000Z
SUMMARY:Judson Boomhower
X-ALT-DESC;FMTTYPE=text/html:"How Are Insurance Markets Adapting to Climate Change? Risk Classification and Pricing in the Market For Homeowners Insurance"
DESCRIPTION:"How Are Insurance Markets Adapting to Climate Change? Risk Classification and Pricing in the Market For Homeowners Insurance"
LOCATION:Kellogg Global Hub 5101, virtual option
SEQUENCE:0
UID:4084b3fb-d3b1-4399-903a-d036de5805a4
END:VEVENT
END:VCALENDAR
