BEGIN:VCALENDAR
VERSION:2.0
PRODID:-//kellogg.northwestern.edu///Outlook MIMEDIR//EN
X-WR-CALNAME: All Faculty Events
BEGIN:VEVENT
DTSTAMP:20260419T153043Z
DTSTART:20240508T203000Z
DTEND:20240508T220000Z
SUMMARY:Theory Workshop - Mira Frick
X-ALT-DESC;FMTTYPE=text/html:"Multidimensional Screening with Rich Consumer Data"
DESCRIPTION:"Multidimensional Screening with Rich Consumer Data"
LOCATION:Kellogg Global Hub 5101
SEQUENCE:0
UID:3e3f1b48-75e0-4d47-b29d-37febd814dfe
END:VEVENT
END:VCALENDAR
