BEGIN:VCALENDAR
VERSION:2.0
PRODID:-//kellogg.northwestern.edu///Outlook MIMEDIR//EN
X-WR-CALNAME: All Faculty Events
BEGIN:VEVENT
DTSTAMP:20260421T193719Z
DTSTART:20241016T160000Z
DTEND:20241016T171500Z
SUMMARY:Mark Egan
X-ALT-DESC;FMTTYPE=text/html:TBA
DESCRIPTION:TBA
LOCATION:Kellogg Global Hub KGH 2420
SEQUENCE:0
UID:3e374bd4-24cb-4bfb-940b-2ad85d7a953f
END:VEVENT
END:VCALENDAR
