BEGIN:VCALENDAR
VERSION:2.0
PRODID:-//kellogg.northwestern.edu///Outlook MIMEDIR//EN
X-WR-CALNAME: All Faculty Events
BEGIN:VEVENT
DTSTAMP:20260421T160044Z
DTSTART:20190515T183000Z
DTEND:20190515T200000Z
SUMMARY:Daniel Xu
X-ALT-DESC;FMTTYPE=text/html:"Notching R&D Investment with Corporate Income Tax Cuts in China"
DESCRIPTION:"Notching R&D Investment with Corporate Income Tax Cuts in China"
LOCATION:Kellogg Global Hub 5101
SEQUENCE:0
UID:3c928cb4-4bd4-4b77-b345-ff789af44818
END:VEVENT
END:VCALENDAR
