BEGIN:VCALENDAR
VERSION:2.0
PRODID:-//kellogg.northwestern.edu///Outlook MIMEDIR//EN
X-WR-CALNAME: All Faculty Events
BEGIN:VEVENT
DTSTAMP:20260421T044053Z
DTSTART:20190715T170000Z
DTEND:20190717T220000Z
SUMMARY:Quantitative Marketing and Structural Econometrics Workshop
X-ALT-DESC;FMTTYPE=text/html:
DESCRIPTION:
LOCATION:Kellogg Global Hub tbd
SEQUENCE:0
UID:39f8f2bd-125e-460e-8794-44d2c22a2981
END:VEVENT
END:VCALENDAR
