BEGIN:VCALENDAR
VERSION:2.0
PRODID:-//kellogg.northwestern.edu///Outlook MIMEDIR//EN
X-WR-CALNAME: All Faculty Events
BEGIN:VEVENT
DTSTAMP:20260419T100140Z
DTSTART:20231004T203000Z
DTEND:20231004T220000Z
SUMMARY:Theory Workshop - Teddy Kim
X-ALT-DESC;FMTTYPE=text/html:"Contest Design Under Strategic Risk Taking"
DESCRIPTION:"Contest Design Under Strategic Risk Taking"
LOCATION:Kellogg Global Hub 5101
SEQUENCE:0
UID:39c227e4-6bec-43e0-8e5f-4e08157e1377
END:VEVENT
END:VCALENDAR
