BEGIN:VCALENDAR
VERSION:2.0
PRODID:-//kellogg.northwestern.edu///Outlook MIMEDIR//EN
X-WR-CALNAME: All Faculty Events
BEGIN:VEVENT
DTSTAMP:20260421T174712Z
DTSTART:20210330T170500Z
DTEND:20210330T180500Z
SUMMARY:Benjamin Friedrich
X-ALT-DESC;FMTTYPE=text/html:“Interdependent Values in Matching Markets: Evidence from Danish Medical School Programs”.
DESCRIPTION:“Interdependent Values in Matching Markets: Evidence from Danish Medical School Programs”.
LOCATION:Virtual Event
SEQUENCE:0
UID:39304dd9-a61b-4925-8a02-29bf33ecfb2d
END:VEVENT
END:VCALENDAR
