BEGIN:VCALENDAR
VERSION:2.0
PRODID:-//kellogg.northwestern.edu///Outlook MIMEDIR//EN
X-WR-CALNAME: All Faculty Events
BEGIN:VEVENT
DTSTAMP:20260421T154920Z
DTSTART:20181017T170000Z
DTEND:20181017T183000Z
SUMMARY:Melanie Brucks
X-ALT-DESC;FMTTYPE=text/html:"The Creativity Paradox: Encouraging Creative Ideas Blocks Idea Generation"
DESCRIPTION:"The Creativity Paradox: Encouraging Creative Ideas Blocks Idea Generation"
LOCATION:Kellogg Global Hub KGH 5301
SEQUENCE:0
UID:38625f4c-becb-44e2-9cf5-2d8f28ab130a
END:VEVENT
END:VCALENDAR
