BEGIN:VCALENDAR
VERSION:2.0
PRODID:-//kellogg.northwestern.edu///Outlook MIMEDIR//EN
X-WR-CALNAME: All Faculty Events
BEGIN:VEVENT
DTSTAMP:20260420T064051Z
DTSTART:20200420T160000Z
DTEND:20200420T171500Z
SUMMARY:Andrea Morales
X-ALT-DESC;FMTTYPE=text/html:
DESCRIPTION:
LOCATION:Kellogg Global Hub tbd
SEQUENCE:0
UID:3588aa2f-7b49-4582-a8de-5cd8207394cc
END:VEVENT
END:VCALENDAR
