BEGIN:VCALENDAR
VERSION:2.0
PRODID:-//kellogg.northwestern.edu///Outlook MIMEDIR//EN
X-WR-CALNAME: All Faculty Events
BEGIN:VEVENT
DTSTAMP:20260424T031837Z
DTSTART:20230406T171500Z
DTEND:20230406T181500Z
SUMMARY:Theory Brown Bag Seminar - Jeff Ely
X-ALT-DESC;FMTTYPE=text/html:"Ruth, Anthony, and Clarence"
DESCRIPTION:"Ruth, Anthony, and Clarence"
LOCATION:Kellogg Global Hub 4101
SEQUENCE:0
UID:358665a1-fbcf-4914-a1bf-e56c85eccfe6
END:VEVENT
END:VCALENDAR
