BEGIN:VCALENDAR
VERSION:2.0
PRODID:-//kellogg.northwestern.edu///Outlook MIMEDIR//EN
X-WR-CALNAME: All Faculty Events
BEGIN:VEVENT
DTSTAMP:20260422T235311Z
DTSTART:20200527T170000Z
DTEND:20200527T183000Z
SUMMARY:Christopher Bryan
X-ALT-DESC;FMTTYPE=text/html:TBD
DESCRIPTION:TBD
LOCATION:Kellogg Global Hub
SEQUENCE:0
UID:354dd64b-6da4-4dd2-b3c7-bdef817bcb50
END:VEVENT
END:VCALENDAR
