BEGIN:VCALENDAR
VERSION:2.0
PRODID:-//kellogg.northwestern.edu///Outlook MIMEDIR//EN
X-WR-CALNAME: All Faculty Events
BEGIN:VEVENT
DTSTAMP:20260423T030155Z
DTSTART:20190926T171500Z
DTEND:20190926T181500Z
SUMMARY:Jeff Ely
X-ALT-DESC;FMTTYPE=text/html:"Feedback Design in Dynamic Tournaments"
DESCRIPTION:"Feedback Design in Dynamic Tournaments"
LOCATION:Kellogg Global Hub 4302
SEQUENCE:0
UID:354d8b43-6c9c-414c-9bcc-62f82a40a008
END:VEVENT
END:VCALENDAR
