BEGIN:VCALENDAR
VERSION:2.0
PRODID:-//kellogg.northwestern.edu///Outlook MIMEDIR//EN
X-WR-CALNAME: All Faculty Events
BEGIN:VEVENT
DTSTAMP:20260421T093942Z
DTSTART:20240521T171500Z
DTEND:20240521T181500Z
SUMMARY:Jinpu Yang and Tim Seida
X-ALT-DESC;FMTTYPE=text/html:"Air Pollution and Bank Lending" and "Adverse Selection in Repeated Contracting: The Case of U.S. Mortgage Markets"
DESCRIPTION:"Air Pollution and Bank Lending" and "Adverse Selection in Repeated Contracting: The Case of U.S. Mortgage Markets"
LOCATION:Kellogg Global Hub KGH 5101
SEQUENCE:0
UID:35478cee-2049-47e1-8c71-074db773faa8
END:VEVENT
END:VCALENDAR
