BEGIN:VCALENDAR
VERSION:2.0
PRODID:-//kellogg.northwestern.edu///Outlook MIMEDIR//EN
X-WR-CALNAME: All Faculty Events
BEGIN:VEVENT
DTSTAMP:20260423T212511Z
DTSTART:20171011T160000Z
DTEND:20171011T171500Z
SUMMARY:Jessica Jeffers
X-ALT-DESC;FMTTYPE=text/html:"The Impact of Restricting Labor Mobility on Corporate Investment and Entrepreneurship"
DESCRIPTION:"The Impact of Restricting Labor Mobility on Corporate Investment and Entrepreneurship"
LOCATION:Kellogg Global Hub Room 1120
SEQUENCE:0
UID:3443b362-0625-4789-89e4-6a0fef1412c3
END:VEVENT
END:VCALENDAR
