BEGIN:VCALENDAR
VERSION:2.0
PRODID:-//kellogg.northwestern.edu///Outlook MIMEDIR//EN
X-WR-CALNAME: All Faculty Events
BEGIN:VEVENT
DTSTAMP:20260421T044208Z
DTSTART:20190418T150000Z
DTEND:20190418T161500Z
SUMMARY:Juliana Schroeder
X-ALT-DESC;FMTTYPE=text/html:Improving civil discourse: Speaking is a more humanizing form of discourse than writing
DESCRIPTION:Improving civil discourse: Speaking is a more humanizing form of discourse than writing
LOCATION:Kellogg Global Hub 5101
SEQUENCE:0
UID:328bd84f-1a44-4ccc-84b6-0d455ee0d230
END:VEVENT
END:VCALENDAR
