BEGIN:VCALENDAR
VERSION:2.0
PRODID:-//kellogg.northwestern.edu///Outlook MIMEDIR//EN
X-WR-CALNAME: All Faculty Events
BEGIN:VEVENT
DTSTAMP:20260421T154826Z
DTSTART:20251118T160000Z
DTEND:20251118T170000Z
SUMMARY:Do You Need a Family Office? How to Get It Right
X-ALT-DESC;FMTTYPE=text/html:As families grow in wealth and complexity, many begin to ask: Is it time to create a family office? In this fireside conversation, Dr. Matt Allen and Dino De Vita, President, Global Family and Private Investment Offices at Northern Trust, will explore what it really takes to establish and sustain a successful family office.
DESCRIPTION:As families grow in wealth and complexity, many begin to ask: Is it time to create a family office? In this fireside conversation, Dr. Matt Allen and Dino De Vita, President, Global Family and Private Investment Offices at Northern Trust, will explore what it really takes to establish and sustain a successful family office.
LOCATION:Zoom
SEQUENCE:0
UID:310d337b-51a5-417a-b2ac-d89b7802b343
END:VEVENT
END:VCALENDAR
