BEGIN:VCALENDAR
VERSION:2.0
PRODID:-//kellogg.northwestern.edu///Outlook MIMEDIR//EN
X-WR-CALNAME: All Faculty Events
BEGIN:VEVENT
DTSTAMP:20260424T130536Z
DTSTART:20180424T171500Z
DTEND:20180424T181500Z
SUMMARY:Sasha Indarte
X-ALT-DESC;FMTTYPE=text/html:"Wall Street vs. Main Street: Optimal Household Debt Relief"
DESCRIPTION:"Wall Street vs. Main Street: Optimal Household Debt Relief"
LOCATION:Kellogg Global Hub Room L130
SEQUENCE:0
UID:302c61fd-fc1b-4e6d-814c-96ffc9062d1e
END:VEVENT
END:VCALENDAR
