BEGIN:VCALENDAR
VERSION:2.0
PRODID:-//kellogg.northwestern.edu///Outlook MIMEDIR//EN
X-WR-CALNAME: All Faculty Events
BEGIN:VEVENT
DTSTAMP:20260419T210211Z
DTSTART:20211029T170000Z
DTEND:20211029T181500Z
SUMMARY:Yuan Liao
X-ALT-DESC;FMTTYPE=text/html:"Interpretable Deep Learning in Conditional Asset Pricing"
DESCRIPTION:"Interpretable Deep Learning in Conditional Asset Pricing"
LOCATION:Kellogg Global Hub 4302
SEQUENCE:0
UID:2fde9eda-ad84-4ce3-bf74-bcbd124408ac
END:VEVENT
END:VCALENDAR
