BEGIN:VCALENDAR
VERSION:2.0
PRODID:-//kellogg.northwestern.edu///Outlook MIMEDIR//EN
X-WR-CALNAME: All Faculty Events
BEGIN:VEVENT
DTSTAMP:20260419T221743Z
DTSTART:20171113T181500Z
DTEND:20171113T193000Z
SUMMARY:Sarah Moshary
X-ALT-DESC;FMTTYPE=text/html:“The Effect of Market Configuration: Evidence from a Natural Experiment in Liquor Licensure”
DESCRIPTION:“The Effect of Market Configuration: Evidence from a Natural Experiment in Liquor Licensure”
LOCATION:Kellogg Global Hub KGH 5301
SEQUENCE:0
UID:2fbfd8e3-ae35-4a84-ba66-92fbf539d452
END:VEVENT
END:VCALENDAR
